BEGIN:VCALENDAR
VERSION:2.0
PRODID:-//My Calendar//mxm.dk//
BEGIN:VEVENT
SUMMARY:SANTIAGO MOTORIZADO en TANDIL
DTSTART:20251003T000000Z
DTEND:20251003T025900Z
DTSTAMP:20260424T083805Z
DESCRIPTION:<p style="text-align: center\; ">SANTIAGO MOTORIZADO en TANDIL
 </p><p style="text-align: center\; ">PRESENTA "EL RETORNO" en GLOW</p><p s
 tyle="text-align: center\; ">ENTRADAS ANTICIPADAS CON DESCUENTO\, EN EFECT
 IVO\, Y SIN COSTO DE SERVICIO en Manhattan Insturmentos Musicales (chacabu
 co 873)</p><p><br></p><p dir="ltr" style="margin: 0pt 0px\; text-align: ce
 nter\; line-height: 1.38\;">Santiago Barrionuevo (La Plata\, 1980) es cant
 ante\, compositor y artista visual. Líder de El Mató a un Policía Motor
 izado\, una de las bandas fundamentales del rock argentino de los últimos
  veinte años\, comenzó paralelamente su carrera solista con el disco Can
 ciones sobre una casa\, cuatro amigos y un perro (2021)\, compuesto para l
 a serie Okupas. Su universo musical mezcla la melancolía pop con la crude
 za barrial\, la ternura con el humor absurdo. Este nuevo proyecto represen
 ta su aventura más personal hasta la fecha.</p><p dir="ltr" style="margin
 : 0pt 0px\; text-align: center\; line-height: 1.38\;"><br></p><p dir="ltr"
  style="margin: 0pt 0px\; text-align: center\; line-height: 1.38\;"><br></
 p><p dir="ltr" style="margin: 0pt 0px\; text-align: center\; line-height: 
 1.38\;">CON UNA GIRA NACIONAL QUE INCLUYE 15 CIUDADES SANTIAGO PRESENTA 
 “EL RETORNO” EN VIVO\, BIEN CERCA DE SU PUBLICO</p><p dir="ltr" style=
 "margin: 0pt 0px\; text-align: center\; line-height: 1.38\;"><br></p><p di
 r="ltr" style="margin: 0pt 0px\; text-align: center\; line-height: 1.38\;"
 ><br></p><p dir="ltr" style="margin: 0pt 0px\; text-align: center\; line-h
 eight: 1.38\;">EL DISCO:</p><p dir="ltr" style="margin: 0pt 0px\; text-ali
 gn: center\; line-height: 1.38\;"><br></p><p dir="ltr" style="margin: 0pt 
 0px\; text-align: center\; line-height: 1.38\;">Finalmente llega El Retorn
 o\, el primer álbum solista de Santiago Motorizado\, una obra íntima y p
 oderosa donde las canciones fluyen recorriendo sus más íntimas pasiones:
  el cine\, la amistad\, el humor\, el misterio y el amor. Como el camino d
 e un antihéroe que se construye en la derrota\, las melodías imbatibles 
 pueden darle la salvación. El poder de las once canciones que conforman E
 l Retorno ahora está afuera y se comparte con todo el planeta.</p><p dir=
 "ltr" style="margin: 0pt 0px\; text-align: center\; line-height: 1.38\;"><
 br></p><p dir="ltr" style="margin: 0pt 0px\; text-align: center\; line-hei
 ght: 1.38\;"><br></p><p dir="ltr" style="margin: 0pt 0px\; text-align: cen
 ter\; line-height: 1.38\;">Después de dos décadas al frente de El Mató 
 a un Policía Motorizado\, Santiago amplía su universo con esta faceta co
 mo cantautor. Reconocido y admirado en todo el mundo\, ha logrado conectar
  con varias generaciones a través de himnos cargados de emoción\, y ha c
 olaborado con artistas de distintos estilos por diferentes rincones del gl
 obo. Su recorrido lo llevó por innumerables escenarios de América y Euro
 pa\, consolidando una voz propia dentro del rock latinoamericano.</p><p di
 r="ltr" style="margin: 0pt 0px\; text-align: center\; line-height: 1.38\;"
 ><br></p><p dir="ltr" style="margin: 0pt 0px\; text-align: center\; line-h
 eight: 1.38\;">Algunas de las canciones de El Retorno tienen su origen hac
 e más de una década\,&nbsp\;</p><p dir="ltr" style="margin: 0pt 0px\; te
 xt-align: center\; line-height: 1.38\;"><br></p><p dir="ltr" style="margin
 : 0pt 0px\; text-align: center\; line-height: 1.38\;">cuando Santiago come
 nzaba a experimentar con un mundo sonoro más pop y romántico\, en parale
 lo a la evolución de El Mató. Estas composiciones circularon de forma ca
 si secreta entre amigos por MSN\, y más tarde terminaron filtrándose en 
 internet y cobrando vida propia entre fans. Hoy\, esas mismas canciones re
 nacen con arreglos renovados y una banda completa.</p><p dir="ltr" style="
 margin: 0pt 0px\; text-align: center\; line-height: 1.38\;"><br></p><p dir
 ="ltr" style="margin: 0pt 0px\; text-align: center\; line-height: 1.38\;">
 <br></p><p dir="ltr" style="margin: 0pt 0px\; text-align: center\; line-he
 ight: 1.38\;">El camino solista tomó forma pública con la banda sonora d
 e La muerte no existe y el amor tampoco\, dirigida por Fernando Salem\, qu
 e le valió el Premio Cóndor de Plata a Mejor Música Original en 2020. L
 uego llegó Canciones sobre una casa\, cuatro amigos y un perro\,&nbsp\;</
 p><p dir="ltr" style="margin: 0pt 0px\; text-align: center\; line-height: 
 1.38\;"><br></p><p dir="ltr" style="margin: 0pt 0px\; text-align: center\;
  line-height: 1.38\;">creación musical para la serie Okupas\, que recibi
 ó el Premio Gardel en 2022.</p><p dir="ltr" style="margin: 0pt 0px\; text
 -align: center\; line-height: 1.38\;"><br></p><p dir="ltr" style="margin: 
 0pt 0px\; text-align: center\; line-height: 1.38\;"><br></p><p dir="ltr" s
 tyle="margin: 0pt 0px\; text-align: center\; line-height: 1.38\;">Con El R
 etorno\, Santiago canaliza sus deseos y sentimientos más personales en ca
 nciones que ilustran los claroscuros de la vida cotidiana. Cada tema cuent
 a con un videoclip propio\, que expande el universo del álbum a través d
 e distintas facetas de su personalidad: el melómano\, el cinéfilo\, el f
 utbolero\, el nostálgico. Un recorrido visual y emocional por sus obsesio
 nes\, pasiones y héroes personales.&nbsp\;</p><p dir="ltr" style="margin:
  0pt 0px\; text-align: center\; line-height: 1.38\;"><br></p><p dir="ltr" 
 style="margin: 0pt 0px\; text-align: center\; line-height: 1.38\;">El álb
 um fue grabado en dos etapas: una primera en febrero de 2021 en Romaphonic
  (Buenos Aires)\, y una segunda en julio de 2024 en Sonic Ranch\, uno de l
 os estudios más reconocidos de Estados Unidos\, ubicado en Texas. La prod
 ucción estuvo a cargo de Felipe Quintans\, Eduardo Bergallo y el propio S
 antiago Barrionuevo\, quien también compuso la totalidad de las canciones
 . El trabajo de grabación y masterización estuvo a cargo de Eduardo Berg
 allo\, en Puro Mastering\, Buenos Aires. En las sesiones participaron\, ad
 emás de Santiago\, Felipe y Tomás Quintans.</p><p dir="ltr" style="margi
 n: 0pt 0px\; text-align: center\; line-height: 1.38\;"><br style="font-fam
 ily: Abel\, sans-serif\;"></p>
END:VEVENT
END:VCALENDAR
