BEGIN:VCALENDAR
VERSION:2.0
PRODID:-//My Calendar//mxm.dk//
BEGIN:VEVENT
SUMMARY:TURF en MAR DEL PLATA
DTSTART:20251019T000000Z
DTEND:20251019T025900Z
DTSTAMP:20260419T134008Z
DESCRIPTION:<p style="text-align: center\; line-height: 1\;"><span style="
 font-size: 24px\;">TURF </span></p><p style="text-align: center\; line-hei
 ght: 1\;"><span style="font-size: 24px\;"><span style="font-size: 18px\;">
 en MAR DEL PLATA</span></span></p><p style="text-align: center\; line-heig
 ht: 1\;">Presenta "Polvo de estrellas"</p><p style="text-align: center\; "
 ><span style="font-size: 18px\;">Sabado 18 de octubre 21hs</span><span sty
 le="font-size: 18px\;">&nbsp\;</span></p><p style="text-align: center\; ">
  BrewHouse Puerto <span style="color: rgb(0\, 0\, 0)\; font-family: -apple
 -system\, BlinkMacSystemFont\, &quot\;Segoe UI&quot\;\, Roboto\, Helvetica
 \, Arial\, sans-serif\; font-size: 14px\; text-align: left\;">Diagonal Gar
 ibaldi 4830 \, Mar del Plata</span></p><p style="text-align: center\; line
 -height: 1\;">Ultimas anticipadas con descuento en efectivo en Conex Tiend
 a Urbana (<span style="color: rgb(0\, 0\, 0)\; font-family: -apple-system\
 , BlinkMacSystemFont\, &quot\;Segoe UI&quot\;\, Roboto\, Helvetica\, Arial
 \, sans-serif\; font-size: 14px\; text-align: left\;">San Martín 3263)</s
 pan></p><p style="text-align: center\; line-height: 1\;"><span style="colo
 r: rgb(0\, 0\, 0)\; font-family: -apple-system\, BlinkMacSystemFont\, &quo
 t\;Segoe UI&quot\;\, Roboto\, Helvetica\, Arial\, sans-serif\; font-size: 
 14px\; text-align: left\;">Lunes a sábado de 10 a 19:00hs</span></p><br><
 p style="text-align: center\; ">Show Apto Todo publico a partir de 7 años
  de edad!</p><p style="text-align: center\; ">x Entradas con Cud mandar ma
 il a compras@ticketmas.ar compartiendo certificado (cupos limitados)</p><p
  style="text-align: center\; "><br></p><p style="text-align: center\; "><b
 r></p><p><br></p>
END:VEVENT
END:VCALENDAR
