BEGIN:VCALENDAR
VERSION:2.0
PRODID:-//My Calendar//mxm.dk//
BEGIN:VEVENT
SUMMARY:evento de prueba ok
DTSTART:20260304T212500Z
DTEND:20260901T174400Z
DTSTAMP:20260423T124804Z
DESCRIPTION:
END:VEVENT
END:VCALENDAR
