BEGIN:VCALENDAR
VERSION:2.0
PRODID:-//My Calendar//mxm.dk//
BEGIN:VEVENT
SUMMARY:Ezequiel Valdez Trio en Dickens
DTSTART:20260118T000000Z
DTEND:20260118T025900Z
DTSTAMP:20260421T223433Z
DESCRIPTION:<p style="text-align: center\; ">EzequielValdez Trio + 1&nbsp\
 ;</p><p style="text-align: center\; ">Sabado 17 de Enero en Dickens\, Mar 
 del Plata</p><p style="text-align: center\; "><br></p>
END:VEVENT
END:VCALENDAR
