BEGIN:VCALENDAR
VERSION:2.0
PRODID:-//My Calendar//mxm.dk//
BEGIN:VEVENT
SUMMARY:Rock y blues con Alambre González\, Conejo Jolivet y Ezequiel Val
 dez Estrada
DTSTART:20260124T000000Z
DTEND:20260124T025900Z
DTSTAMP:20260421T092529Z
DESCRIPTION:<p style="text-align: center\; ">Rock y blues con Alambre Gonz
 ález\, Conejo Jolivet y Ezequiel Valdez Estrada</p><p style="text-align: 
 center\; ">Viernes 23 de enero en Dickens\, Mar del Plata</p>
END:VEVENT
END:VCALENDAR
