BEGIN:VCALENDAR
VERSION:2.0
PRODID:-//My Calendar//mxm.dk//
BEGIN:VEVENT
SUMMARY:SANTI MOTORIZADO en NECOCHEA
DTSTART:20230924T000000Z
DTEND:20230924T025900Z
DTSTAMP:20260420T220908Z
DESCRIPTION:<p></p><div style="text-align: start\;"><div style="text-align
 : center\;"><font color="#000000"><span style="font-family: Arial\; font-s
 ize: 18px\;">﻿</span><span style="font-family: Arial\; font-size: 18px\;
 ">SANTI MOTORIZADO EN NECOCHEA</span></font></div><font face="Roboto\, san
 s-serif" color="#000000"><div style="text-align: center\;"><span style="fo
 nt-size: 18px\; font-family: Arial\;">Centro Cultural Necochea - 21hs.<br>
 </span></div></font></div><font color="#000000"><br></font><p></p><h2 clas
 s="fparrafo ctext fz18 lh25" style="margin-right: 0px\; margin-bottom: 0px
 \; margin-left: 0px\; line-height: 1.2\;"><p class="MsoNormal" style="marg
 in: 0cm 0cm 0.0001pt\; font-size: 12pt\; font-family: Calibri\, sans-serif
 \; color: rgb(0\, 0\, 0)\;"><span style="font-size: 13.5pt\; font-family: 
 Arial\, sans-serif\; background-image: initial\; background-position: init
 ial\; background-size: initial\; background-repeat: initial\; background-a
 ttachment: initial\; background-origin: initial\; background-clip: initial
 \;">El cantante y bajista de "Él mató a un policía motorizado" se prese
 nta en la ciudad de Necochea el próximo sábado 23 de septiembre con un s
 how cargado de canciones emotivas que recorrerán su repertorio personal y
  también las canciones mas queridas de la banda como "<b>El tesoro</b>"\,
 &nbsp\;"<b>La noche eterna</b>"\, "<b>Chica de oro</b>"\, "<b>Más o menos
  bien</b>"\, "<b>El perro</b>"\,&nbsp\;"<b>Fuego</b>" y más.<o:p></o:p></
 span></p><p class="MsoNormal" style="margin: 0cm 0cm 0.0001pt\; font-size:
  12pt\; font-family: Calibri\, sans-serif\; color: rgb(0\, 0\, 0)\;"><span
  style="font-size: 13.5pt\; font-family: Arial\, sans-serif\; background-i
 mage: initial\; background-position: initial\; background-size: initial\; 
 background-repeat: initial\; background-attachment: initial\; background-o
 rigin: initial\; background-clip: initial\;"><br>Mientras continua con la 
 gira presentación de Super Terror\, último disco de la banda\, Santiago 
 hace una nueva parada en la ciudad de Necochea dentro del marco de present
 aciones especiales en varias ciudades del país. Por otra parte\, entre un
 o de sus lanzamientos más recientes\, se presentó en "Fa!"\, el programa
  de&nbsp\;Mex Urtizberea\, donde hizo un cover&nbsp\;de "<b>No podrás</b>
 "\, la canción de Cristian Castro y cautivó el corazón de las personas 
 con está hermosa versión.</span><span style="font-family: &quot\;Times N
 ew Roman&quot\;\, serif\;"><o:p></o:p></span></p><p style="margin: 12.1562
 px 0px 0px\;"><br></p><p style="margin: 12.1562px 0px 0px\;"><font color="
 #000000" style=""><br></font></p><p style="margin: 12.1562px 0px 0px\;">&n
 bsp\;<iframe width="560" height="315" src="https://www.youtube.com/embed/d
 v8MNJchJhg?si=1meIsR88QIpV32jG" title="YouTube video player" frameborder="
 0" allow="accelerometer\; autoplay\; clipboard-write\; encrypted-media\; g
 yroscope\; picture-in-picture\; web-share" allowfullscreen=""></iframe><fo
 nt color="#000000" style=""><br><br></font></p></h2>
END:VEVENT
END:VCALENDAR
